BEGIN:VCALENDAR
VERSION:2.0
PRODID:-//Richter Park Golf Course - ECPv6.15.18//NONSGML v1.0//EN
CALSCALE:GREGORIAN
METHOD:PUBLISH
X-ORIGINAL-URL:https://www.richterpark.com
X-WR-CALDESC:Events for Richter Park Golf Course
REFRESH-INTERVAL;VALUE=DURATION:PT1H
X-Robots-Tag:noindex
X-PUBLISHED-TTL:PT1H
BEGIN:VTIMEZONE
TZID:America/New_York
BEGIN:DAYLIGHT
TZOFFSETFROM:-0500
TZOFFSETTO:-0400
TZNAME:EDT
DTSTART:20250309T070000
END:DAYLIGHT
BEGIN:STANDARD
TZOFFSETFROM:-0400
TZOFFSETTO:-0500
TZNAME:EST
DTSTART:20251102T060000
END:STANDARD
BEGIN:DAYLIGHT
TZOFFSETFROM:-0500
TZOFFSETTO:-0400
TZNAME:EDT
DTSTART:20260308T070000
END:DAYLIGHT
BEGIN:STANDARD
TZOFFSETFROM:-0400
TZOFFSETTO:-0500
TZNAME:EST
DTSTART:20261101T060000
END:STANDARD
BEGIN:DAYLIGHT
TZOFFSETFROM:-0500
TZOFFSETTO:-0400
TZNAME:EDT
DTSTART:20270314T070000
END:DAYLIGHT
BEGIN:STANDARD
TZOFFSETFROM:-0400
TZOFFSETTO:-0500
TZNAME:EST
DTSTART:20271107T060000
END:STANDARD
END:VTIMEZONE
BEGIN:VEVENT
DTSTART;TZID=America/New_York:20260421T180000
DTEND;TZID=America/New_York:20260421T180000
DTSTAMP:20260421T045207
CREATED:20260211T185011Z
LAST-MODIFIED:20260211T185011Z
UID:10000208-1776794400-1776794400@www.richterpark.com
SUMMARY:Richter Park Authority meeting
DESCRIPTION:Monthly Richter Park Authority meeting \nPublic welcome to attend
URL:https://www.richterpark.com/event/richter-park-authority-meeting-31/
LOCATION:Richter Park Authority Office
END:VEVENT
BEGIN:VEVENT
DTSTART;TZID=America/New_York:20260429T130000
DTEND;TZID=America/New_York:20260429T180000
DTSTAMP:20260421T045207
CREATED:20250617T200852Z
LAST-MODIFIED:20260225T161038Z
UID:10000201-1777467600-1777485600@www.richterpark.com
SUMMARY:Private Shotgun Outing
DESCRIPTION:1pm shotgun outing
URL:https://www.richterpark.com/event/private-shotgun-outing-45/
END:VEVENT
END:VCALENDAR